Package: circRNAprofiler Version: 1.22.1 Command: /Library/Frameworks/R.framework/Resources/bin/R CMD check --install=check:circRNAprofiler.install-out.txt --library=/Library/Frameworks/R.framework/Resources/library --no-vignettes --timings circRNAprofiler_1.22.1.tar.gz StartedAt: 2025-10-14 01:29:23 -0400 (Tue, 14 Oct 2025) EndedAt: 2025-10-14 01:49:24 -0400 (Tue, 14 Oct 2025) EllapsedTime: 1200.4 seconds RetCode: 0 Status: OK CheckDir: circRNAprofiler.Rcheck Warnings: 0