Package: cicero Version: 1.26.0 Command: /home/biocbuild/R/R/bin/R CMD build --keep-empty-dirs --no-resave-data cicero StartedAt: 2025-10-09 23:36:20 -0000 (Thu, 09 Oct 2025) EndedAt: 2025-10-09 23:39:13 -0000 (Thu, 09 Oct 2025) EllapsedTime: 172.8 seconds RetCode: 0 Status: OK PackageFile: cicero_1.26.0.tar.gz PackageFileSize: 1.206 MiB