Package: cicero Version: 1.26.0 Command: /Library/Frameworks/R.framework/Resources/bin/R CMD check --install=check:cicero.install-out.txt --library=/Library/Frameworks/R.framework/Resources/library --no-vignettes --timings cicero_1.26.0.tar.gz StartedAt: 2025-10-07 17:27:41 -0400 (Tue, 07 Oct 2025) EndedAt: 2025-10-07 17:41:11 -0400 (Tue, 07 Oct 2025) EllapsedTime: 809.8 seconds RetCode: 0 Status: OK CheckDir: cicero.Rcheck Warnings: 0