Package: chromstaR Version: 1.34.0 Command: /home/biocbuild/bbs-3.21-bioc/R/bin/R CMD build --keep-empty-dirs --no-resave-data chromstaR StartedAt: 2025-10-01 16:47:42 -0400 (Wed, 01 Oct 2025) EndedAt: 2025-10-01 16:47:45 -0400 (Wed, 01 Oct 2025) EllapsedTime: 3.0 seconds RetCode: 1 Status: ERROR PackageFile: None PackageFileSize: NA