Package: chromVAR Version: 1.30.1 Command: chmod a+r chromVAR -R && E:\biocbuild\bbs-3.21-bioc\R\bin\R.exe CMD build --keep-empty-dirs --no-resave-data chromVAR StartedAt: 2025-08-14 18:03:12 -0400 (Thu, 14 Aug 2025) EndedAt: 2025-08-14 18:07:02 -0400 (Thu, 14 Aug 2025) EllapsedTime: 229.7 seconds RetCode: 0 Status: OK PackageFile: chromVAR_1.30.1.tar.gz PackageFileSize: 424.4 KiB