Package: chromVAR Version: 1.30.1 Command: rm -rf chromVAR.buildbin-libdir && mkdir chromVAR.buildbin-libdir && E:\biocbuild\bbs-3.21-bioc\R\bin\R.exe CMD INSTALL --build --library=chromVAR.buildbin-libdir chromVAR_1.30.1.tar.gz StartedAt: 2025-08-15 08:59:15 -0400 (Fri, 15 Aug 2025) EndedAt: 2025-08-15 09:01:05 -0400 (Fri, 15 Aug 2025) EllapsedTime: 110.4 seconds RetCode: 0 Status: OK PackageFile: chromVAR_1.30.1.zip PackageFileSize: 1.612 MiB