Package: chromVAR Version: 1.30.1 Command: /home/biocbuild/bbs-3.21-bioc/R/bin/R CMD INSTALL chromVAR StartedAt: 2025-10-15 15:50:35 -0400 (Wed, 15 Oct 2025) EndedAt: 2025-10-15 15:51:40 -0400 (Wed, 15 Oct 2025) EllapsedTime: 65.2 seconds RetCode: 0 Status: OK