Package: chromVAR Version: 1.30.1 Command: /home/biocbuild/R/R/bin/R CMD check --install=check:chromVAR.install-out.txt --library=/home/biocbuild/R/R/site-library --no-vignettes --timings chromVAR_1.30.1.tar.gz StartedAt: 2025-10-14 07:28:17 -0000 (Tue, 14 Oct 2025) EndedAt: 2025-10-14 07:37:10 -0000 (Tue, 14 Oct 2025) EllapsedTime: 533.3 seconds RetCode: 0 Status: OK CheckDir: chromVAR.Rcheck Warnings: 0