Package: chromVAR Version: 1.30.1 Command: /Library/Frameworks/R.framework/Resources/bin/R CMD INSTALL chromVAR StartedAt: 2025-10-13 18:03:56 -0400 (Mon, 13 Oct 2025) EndedAt: 2025-10-13 18:05:07 -0400 (Mon, 13 Oct 2025) EllapsedTime: 70.9 seconds RetCode: 0 Status: OK