Package: chromVAR Version: 1.30.1 Command: /Library/Frameworks/R.framework/Resources/bin/R CMD check --install=check:chromVAR.install-out.txt --library=/Library/Frameworks/R.framework/Resources/library --no-vignettes --timings chromVAR_1.30.1.tar.gz StartedAt: 2025-10-14 16:07:19 -0400 (Tue, 14 Oct 2025) EndedAt: 2025-10-14 16:14:35 -0400 (Tue, 14 Oct 2025) EllapsedTime: 435.8 seconds RetCode: 0 Status: OK CheckDir: chromVAR.Rcheck Warnings: 0