Package: chromPlot Version: 1.36.0 Command: /Library/Frameworks/R.framework/Resources/bin/R CMD INSTALL chromPlot StartedAt: 2025-10-13 16:47:10 -0400 (Mon, 13 Oct 2025) EndedAt: 2025-10-13 16:47:46 -0400 (Mon, 13 Oct 2025) EllapsedTime: 35.6 seconds RetCode: 0 Status: OK