Package: chromPlot Version: 1.36.0 Command: /Library/Frameworks/R.framework/Resources/bin/R CMD check --install=check:chromPlot.install-out.txt --library=/Library/Frameworks/R.framework/Resources/library --no-vignettes --timings chromPlot_1.36.0.tar.gz StartedAt: 2025-10-14 01:26:56 -0400 (Tue, 14 Oct 2025) EndedAt: 2025-10-14 01:30:39 -0400 (Tue, 14 Oct 2025) EllapsedTime: 222.9 seconds RetCode: 0 Status: OK CheckDir: chromPlot.Rcheck Warnings: 0