Package: chromPlot Version: 1.36.0 Command: /Library/Frameworks/R.framework/Resources/bin/R CMD build --keep-empty-dirs --no-resave-data chromPlot StartedAt: 2025-10-13 17:53:59 -0400 (Mon, 13 Oct 2025) EndedAt: 2025-10-13 17:55:31 -0400 (Mon, 13 Oct 2025) EllapsedTime: 92.6 seconds RetCode: 0 Status: OK PackageFile: chromPlot_1.36.0.tar.gz PackageFileSize: 1.518 MiB