Package: chromPlot Version: 1.36.0 Command: rm -rf chromPlot.buildbin-libdir && mkdir chromPlot.buildbin-libdir && /Users/biocbuild/BBS/utils/build-universal.sh chromPlot_1.36.0.tar.gz /Library/Frameworks/R.framework/Resources/bin/R chromPlot.buildbin-libdir StartedAt: 2025-10-14 13:02:28 -0400 (Tue, 14 Oct 2025) EndedAt: 2025-10-14 13:03:28 -0400 (Tue, 14 Oct 2025) EllapsedTime: 60.1 seconds RetCode: 0 Status: OK PackageFile: chromPlot_1.36.0.tgz PackageFileSize: 1.595 MiB