Package: chopsticks Version: 1.74.0 Command: chmod a+r chopsticks -R && E:\biocbuild\bbs-3.21-bioc\R\bin\R.exe CMD build --keep-empty-dirs --no-resave-data chopsticks StartedAt: 2025-08-14 18:02:00 -0400 (Thu, 14 Aug 2025) EndedAt: 2025-08-14 18:03:01 -0400 (Thu, 14 Aug 2025) EllapsedTime: 60.9 seconds RetCode: 0 Status: OK PackageFile: chopsticks_1.74.0.tar.gz PackageFileSize: 6.556 MiB