Package: chipseq Version: 1.58.0 Command: rm -rf chipseq.buildbin-libdir && mkdir chipseq.buildbin-libdir && E:\biocbuild\bbs-3.21-bioc\R\bin\R.exe CMD INSTALL --build --library=chipseq.buildbin-libdir chipseq_1.58.0.tar.gz StartedAt: 2025-08-15 08:58:47 -0400 (Fri, 15 Aug 2025) EndedAt: 2025-08-15 08:59:28 -0400 (Fri, 15 Aug 2025) EllapsedTime: 40.8 seconds RetCode: 0 Status: OK PackageFile: chipseq_1.58.0.zip PackageFileSize: 2.115 MiB