Package: chipseq Version: 1.58.0 Command: /Library/Frameworks/R.framework/Resources/bin/R CMD check --install=check:chipseq.install-out.txt --library=/Library/Frameworks/R.framework/Resources/library --no-vignettes --timings chipseq_1.58.0.tar.gz StartedAt: 2025-10-14 01:24:28 -0400 (Tue, 14 Oct 2025) EndedAt: 2025-10-14 01:31:29 -0400 (Tue, 14 Oct 2025) EllapsedTime: 420.6 seconds RetCode: 0 Status: WARNINGS CheckDir: chipseq.Rcheck Warnings: 2