Package: chipenrich Version: 2.32.0 Command: /home/biocbuild/R/R/bin/R CMD build --keep-empty-dirs --no-resave-data chipenrich StartedAt: 2025-10-13 23:34:12 -0000 (Mon, 13 Oct 2025) EndedAt: 2025-10-13 23:36:34 -0000 (Mon, 13 Oct 2025) EllapsedTime: 142.0 seconds RetCode: 0 Status: OK PackageFile: chipenrich_2.32.0.tar.gz PackageFileSize: 650.9 KiB