Package: chimeraviz Version: 1.34.0 Command: E:\biocbuild\bbs-3.21-bioc\R\bin\R.exe CMD check --no-multiarch --install=check:chimeraviz.install-out.txt --library=E:\biocbuild\bbs-3.21-bioc\R\library --no-vignettes --timings chimeraviz_1.34.0.tar.gz StartedAt: 2025-08-15 00:31:28 -0400 (Fri, 15 Aug 2025) EndedAt: 2025-08-15 00:44:22 -0400 (Fri, 15 Aug 2025) EllapsedTime: 773.3 seconds RetCode: 0 Status: OK CheckDir: chimeraviz.Rcheck Warnings: 0