Package: chimeraviz Version: 1.34.0 Command: /home/biocbuild/bbs-3.21-bioc/R/bin/R CMD INSTALL chimeraviz StartedAt: 2025-10-15 15:45:17 -0400 (Wed, 15 Oct 2025) EndedAt: 2025-10-15 15:46:13 -0400 (Wed, 15 Oct 2025) EllapsedTime: 55.5 seconds RetCode: 0 Status: OK