Package: chimeraviz Version: 1.34.0 Command: /home/biocbuild/bbs-3.21-bioc/R/bin/R CMD build --keep-empty-dirs --no-resave-data chimeraviz StartedAt: 2025-10-15 16:42:44 -0400 (Wed, 15 Oct 2025) EndedAt: 2025-10-15 16:46:04 -0400 (Wed, 15 Oct 2025) EllapsedTime: 200.2 seconds RetCode: 0 Status: OK PackageFile: chimeraviz_1.34.0.tar.gz PackageFileSize: 3.73 MiB