Package: chimeraviz Version: 1.34.0 Command: /Library/Frameworks/R.framework/Resources/bin/R CMD check --install=check:chimeraviz.install-out.txt --library=/Library/Frameworks/R.framework/Resources/library --no-vignettes --timings chimeraviz_1.34.0.tar.gz StartedAt: 2025-10-14 01:22:06 -0400 (Tue, 14 Oct 2025) EndedAt: 2025-10-14 01:43:45 -0400 (Tue, 14 Oct 2025) EllapsedTime: 1299.6 seconds RetCode: 0 Status: OK CheckDir: chimeraviz.Rcheck Warnings: 0