Package: chimeraviz Version: 1.34.0 Command: /Library/Frameworks/R.framework/Resources/bin/R CMD build --keep-empty-dirs --no-resave-data chimeraviz StartedAt: 2025-10-13 17:50:25 -0400 (Mon, 13 Oct 2025) EndedAt: 2025-10-13 17:58:00 -0400 (Mon, 13 Oct 2025) EllapsedTime: 455.2 seconds RetCode: 0 Status: OK PackageFile: chimeraviz_1.34.0.tar.gz PackageFileSize: 4.108 MiB