Package: chimeraviz Version: 1.34.0 Command: rm -rf chimeraviz.buildbin-libdir && mkdir chimeraviz.buildbin-libdir && /Users/biocbuild/BBS/utils/build-universal.sh chimeraviz_1.34.0.tar.gz /Library/Frameworks/R.framework/Resources/bin/R chimeraviz.buildbin-libdir StartedAt: 2025-10-14 13:01:25 -0400 (Tue, 14 Oct 2025) EndedAt: 2025-10-14 13:04:12 -0400 (Tue, 14 Oct 2025) EllapsedTime: 167.6 seconds RetCode: 0 Status: OK PackageFile: chimeraviz_1.34.0.tgz PackageFileSize: 4.718 MiB