Package: chimeraviz Version: 1.34.0 Command: /Library/Frameworks/R.framework/Resources/bin/R CMD INSTALL chimeraviz StartedAt: 2025-10-13 17:40:22 -0400 (Mon, 13 Oct 2025) EndedAt: 2025-10-13 17:41:28 -0400 (Mon, 13 Oct 2025) EllapsedTime: 65.9 seconds RetCode: 0 Status: OK