Package: chevreulShiny Version: 1.0.0 Command: /home/biocbuild/R/R/bin/R CMD check --install=check:chevreulShiny.install-out.txt --library=/home/biocbuild/R/R/site-library --no-vignettes --timings chevreulShiny_1.0.0.tar.gz StartedAt: 2025-10-14 07:23:36 -0000 (Tue, 14 Oct 2025) EndedAt: 2025-10-14 07:32:56 -0000 (Tue, 14 Oct 2025) EllapsedTime: 560.4 seconds RetCode: 0 Status: OK CheckDir: chevreulShiny.Rcheck Warnings: 0