Package: chevreulShiny Version: 1.0.0 Command: /Library/Frameworks/R.framework/Resources/bin/R CMD INSTALL chevreulShiny StartedAt: 2025-10-13 18:21:22 -0400 (Mon, 13 Oct 2025) EndedAt: 2025-10-13 18:22:30 -0400 (Mon, 13 Oct 2025) EllapsedTime: 68.3 seconds RetCode: 0 Status: OK