Package: chevreulShiny Version: 1.0.0 Command: /Library/Frameworks/R.framework/Resources/bin/R CMD check --install=check:chevreulShiny.install-out.txt --library=/Library/Frameworks/R.framework/Resources/library --no-vignettes --timings chevreulShiny_1.0.0.tar.gz StartedAt: 2025-10-14 15:44:59 -0400 (Tue, 14 Oct 2025) EndedAt: 2025-10-14 15:53:35 -0400 (Tue, 14 Oct 2025) EllapsedTime: 515.8 seconds RetCode: 0 Status: OK CheckDir: chevreulShiny.Rcheck Warnings: 0