Package: chevreulShiny Version: 1.0.0 Command: /Library/Frameworks/R.framework/Resources/bin/R CMD build --keep-empty-dirs --no-resave-data chevreulShiny StartedAt: 2025-10-13 20:59:21 -0400 (Mon, 13 Oct 2025) EndedAt: 2025-10-13 21:01:06 -0400 (Mon, 13 Oct 2025) EllapsedTime: 104.2 seconds RetCode: 0 Status: OK PackageFile: chevreulShiny_1.0.0.tar.gz PackageFileSize: 7.467 MiB