Package: chevreulShiny Version: 1.0.0 Command: rm -rf chevreulShiny.buildbin-libdir && mkdir chevreulShiny.buildbin-libdir && /Users/biocbuild/BBS/utils/build-universal.sh chevreulShiny_1.0.0.tar.gz /Library/Frameworks/R.framework/Resources/bin/R chevreulShiny.buildbin-libdir StartedAt: 2025-10-15 17:47:52 -0400 (Wed, 15 Oct 2025) EndedAt: 2025-10-15 17:49:08 -0400 (Wed, 15 Oct 2025) EllapsedTime: 75.8 seconds RetCode: 0 Status: OK PackageFile: chevreulShiny_1.0.0.tgz PackageFileSize: 6.376 MiB