Package: chevreulProcess Version: 1.0.0 Command: E:\biocbuild\bbs-3.21-bioc\R\bin\R.exe CMD INSTALL chevreulProcess StartedAt: 2025-08-14 16:47:57 -0400 (Thu, 14 Aug 2025) EndedAt: 2025-08-14 16:49:40 -0400 (Thu, 14 Aug 2025) EllapsedTime: 103.5 seconds RetCode: 0 Status: OK