############################################################################## ############################################################################## ### ### Running command: ### ### rm -rf chevreulProcess.buildbin-libdir && mkdir chevreulProcess.buildbin-libdir && E:\biocbuild\bbs-3.21-bioc\R\bin\R.exe CMD INSTALL --build --library=chevreulProcess.buildbin-libdir chevreulProcess_1.0.0.tar.gz ### ############################################################################## ############################################################################## * installing *source* package 'chevreulProcess' ... ** this is package 'chevreulProcess' version '1.0.0' ** using staged installation ** R ** data ** inst ** byte-compile and prepare package for lazy loading ** help *** installing help indices ** building package indices ** installing vignettes ** testing if installed package can be loaded from temporary location ** testing if installed package can be loaded from final location ** testing if installed package keeps a record of temporary installation path * MD5 sums packaged installation of 'chevreulProcess' as chevreulProcess_1.0.0.zip * DONE (chevreulProcess)