Package: chevreulProcess Version: 1.0.0 Command: /Library/Frameworks/R.framework/Resources/bin/R CMD INSTALL chevreulProcess StartedAt: 2025-10-13 16:42:59 -0400 (Mon, 13 Oct 2025) EndedAt: 2025-10-13 16:44:47 -0400 (Mon, 13 Oct 2025) EllapsedTime: 108.4 seconds RetCode: 0 Status: OK