Package: chevreulProcess Version: 1.0.0 Command: /Library/Frameworks/R.framework/Resources/bin/R CMD check --install=check:chevreulProcess.install-out.txt --library=/Library/Frameworks/R.framework/Resources/library --no-vignettes --timings chevreulProcess_1.0.0.tar.gz StartedAt: 2025-10-14 01:20:52 -0400 (Tue, 14 Oct 2025) EndedAt: 2025-10-14 01:34:08 -0400 (Tue, 14 Oct 2025) EllapsedTime: 796.0 seconds RetCode: 0 Status: OK CheckDir: chevreulProcess.Rcheck Warnings: 0