Package: chevreulPlot Version: 1.0.0 Command: /home/biocbuild/R/R/bin/R CMD check --install=check:chevreulPlot.install-out.txt --library=/home/biocbuild/R/R/site-library --no-vignettes --timings chevreulPlot_1.0.0.tar.gz StartedAt: 2025-10-14 07:22:34 -0000 (Tue, 14 Oct 2025) EndedAt: 2025-10-14 07:31:48 -0000 (Tue, 14 Oct 2025) EllapsedTime: 554.4 seconds RetCode: 1 Status: ERROR CheckDir: chevreulPlot.Rcheck Warnings: NA