Package: cghMCR Version: 1.66.0 Command: /home/biocbuild/bbs-3.21-bioc/R/bin/R CMD check --install=check:cghMCR.install-out.txt --library=/home/biocbuild/bbs-3.21-bioc/R/site-library --timings cghMCR_1.66.0.tar.gz StartedAt: 2025-10-15 21:38:01 -0400 (Wed, 15 Oct 2025) EndedAt: 2025-10-15 21:40:34 -0400 (Wed, 15 Oct 2025) EllapsedTime: 153.3 seconds RetCode: 0 Status: WARNINGS CheckDir: cghMCR.Rcheck Warnings: 1