Package: cghMCR Version: 1.66.0 Command: /Library/Frameworks/R.framework/Resources/bin/R CMD build --keep-empty-dirs --no-resave-data cghMCR StartedAt: 2025-04-21 16:15:17 -0400 (Mon, 21 Apr 2025) EndedAt: 2025-04-21 16:16:32 -0400 (Mon, 21 Apr 2025) EllapsedTime: 75.4 seconds RetCode: 0 Status: OK PackageFile: cghMCR_1.66.0.tar.gz PackageFileSize: 36.1 MiB