Package: cghMCR Version: 1.66.0 Command: /home/biocbuild/R/R/bin/R CMD check --install=check:cghMCR.install-out.txt --library=/home/biocbuild/R/R/site-library --no-vignettes --timings cghMCR_1.66.0.tar.gz StartedAt: 2025-09-26 08:57:03 -0000 (Fri, 26 Sep 2025) EndedAt: 2025-09-26 08:59:50 -0000 (Fri, 26 Sep 2025) EllapsedTime: 167.1 seconds RetCode: 0 Status: WARNINGS CheckDir: cghMCR.Rcheck Warnings: 1