Package: cghMCR Version: 1.66.0 Command: /Library/Frameworks/R.framework/Resources/bin/R CMD INSTALL cghMCR StartedAt: 2025-10-13 15:51:06 -0400 (Mon, 13 Oct 2025) EndedAt: 2025-10-13 15:51:29 -0400 (Mon, 13 Oct 2025) EllapsedTime: 22.6 seconds RetCode: 0 Status: OK