Package: cghMCR Version: 1.66.0 Command: /Library/Frameworks/R.framework/Resources/bin/R CMD check --install=check:cghMCR.install-out.txt --library=/Library/Frameworks/R.framework/Resources/library --no-vignettes --timings cghMCR_1.66.0.tar.gz StartedAt: 2025-10-14 15:42:28 -0400 (Tue, 14 Oct 2025) EndedAt: 2025-10-14 15:44:59 -0400 (Tue, 14 Oct 2025) EllapsedTime: 150.4 seconds RetCode: 0 Status: WARNINGS CheckDir: cghMCR.Rcheck Warnings: 1