Package: cfdnakit Version: 1.6.0 Command: E:\biocbuild\bbs-3.21-bioc\R\bin\R.exe CMD check --no-multiarch --install=check:cfdnakit.install-out.txt --library=E:\biocbuild\bbs-3.21-bioc\R\library --no-vignettes --timings cfdnakit_1.6.0.tar.gz StartedAt: 2025-08-15 00:29:02 -0400 (Fri, 15 Aug 2025) EndedAt: 2025-08-15 00:34:03 -0400 (Fri, 15 Aug 2025) EllapsedTime: 301.3 seconds RetCode: 0 Status: OK CheckDir: cfdnakit.Rcheck Warnings: 0