Package: cellmigRation Version: 1.16.0 Command: /Library/Frameworks/R.framework/Resources/bin/R CMD INSTALL cellmigRation StartedAt: 2025-10-13 15:17:20 -0400 (Mon, 13 Oct 2025) EndedAt: 2025-10-13 15:17:53 -0400 (Mon, 13 Oct 2025) EllapsedTime: 32.7 seconds RetCode: 0 Status: OK