Package: cellity Version: 1.36.0 Command: /Library/Frameworks/R.framework/Resources/bin/R CMD check --install=check:cellity.install-out.txt --library=/Library/Frameworks/R.framework/Resources/library --no-vignettes --timings cellity_1.36.0.tar.gz StartedAt: 2025-10-14 15:29:51 -0400 (Tue, 14 Oct 2025) EndedAt: 2025-10-14 15:32:57 -0400 (Tue, 14 Oct 2025) EllapsedTime: 185.8 seconds RetCode: 0 Status: OK CheckDir: cellity.Rcheck Warnings: 0