Package: cellity Version: 1.36.0 Command: /Library/Frameworks/R.framework/Resources/bin/R CMD build --keep-empty-dirs --no-resave-data cellity StartedAt: 2025-10-13 20:45:39 -0400 (Mon, 13 Oct 2025) EndedAt: 2025-10-13 20:46:57 -0400 (Mon, 13 Oct 2025) EllapsedTime: 78.6 seconds RetCode: 0 Status: OK PackageFile: cellity_1.36.0.tar.gz PackageFileSize: 1.245 MiB