Package: celaref Version: 1.26.0 Command: /home/biocbuild/bbs-3.21-bioc/R/bin/R CMD INSTALL celaref StartedAt: 2025-09-28 15:34:48 -0400 (Sun, 28 Sep 2025) EndedAt: 2025-09-28 15:35:15 -0400 (Sun, 28 Sep 2025) EllapsedTime: 27.4 seconds RetCode: 0 Status: OK