Package: ceRNAnetsim Version: 1.20.0 Command: rm -rf ceRNAnetsim.buildbin-libdir && mkdir ceRNAnetsim.buildbin-libdir && /Users/biocbuild/BBS/utils/build-universal.sh ceRNAnetsim_1.20.0.tar.gz /Library/Frameworks/R.framework/Resources/bin/R ceRNAnetsim.buildbin-libdir StartedAt: 2025-10-14 13:00:14 -0400 (Tue, 14 Oct 2025) EndedAt: 2025-10-14 13:00:34 -0400 (Tue, 14 Oct 2025) EllapsedTime: 20.4 seconds RetCode: 0 Status: OK PackageFile: ceRNAnetsim_1.20.0.tgz PackageFileSize: 2.581 MiB