Package: ceRNAnetsim Version: 1.20.0 Command: /home/biocbuild/R/R/bin/R CMD build --keep-empty-dirs --no-resave-data ceRNAnetsim StartedAt: 2025-10-13 23:30:43 -0000 (Mon, 13 Oct 2025) EndedAt: 2025-10-13 23:38:25 -0000 (Mon, 13 Oct 2025) EllapsedTime: 462.1 seconds RetCode: 0 Status: OK PackageFile: ceRNAnetsim_1.20.0.tar.gz PackageFileSize: 2.942 MiB