Package: ceRNAnetsim Version: 1.20.0 Command: /Library/Frameworks/R.framework/Resources/bin/R CMD check --install=check:ceRNAnetsim.install-out.txt --library=/Library/Frameworks/R.framework/Resources/library --no-vignettes --timings ceRNAnetsim_1.20.0.tar.gz StartedAt: 2025-10-14 15:36:24 -0400 (Tue, 14 Oct 2025) EndedAt: 2025-10-14 15:38:48 -0400 (Tue, 14 Oct 2025) EllapsedTime: 144.4 seconds RetCode: 1 Status: ERROR CheckDir: ceRNAnetsim.Rcheck Warnings: NA