Package: ceRNAnetsim Version: 1.20.0 Command: /Library/Frameworks/R.framework/Resources/bin/R CMD build --keep-empty-dirs --no-resave-data ceRNAnetsim StartedAt: 2025-10-13 20:52:47 -0400 (Mon, 13 Oct 2025) EndedAt: 2025-10-13 20:58:07 -0400 (Mon, 13 Oct 2025) EllapsedTime: 320.0 seconds RetCode: 0 Status: OK PackageFile: ceRNAnetsim_1.20.0.tar.gz PackageFileSize: 3.063 MiB