Package: ceRNAnetsim Version: 1.20.0 Command: rm -rf ceRNAnetsim.buildbin-libdir && mkdir ceRNAnetsim.buildbin-libdir && /Users/biocbuild/BBS/utils/build-universal.sh ceRNAnetsim_1.20.0.tar.gz /Library/Frameworks/R.framework/Resources/bin/R ceRNAnetsim.buildbin-libdir StartedAt: 2025-10-15 17:46:28 -0400 (Wed, 15 Oct 2025) EndedAt: 2025-10-15 17:46:39 -0400 (Wed, 15 Oct 2025) EllapsedTime: 11.2 seconds RetCode: 0 Status: OK PackageFile: ceRNAnetsim_1.20.0.tgz PackageFileSize: 2.589 MiB